BEGIN:VCALENDAR
VERSION:2.0
PRODID:-//ELRI - ECPv6.15.20//NONSGML v1.0//EN
CALSCALE:GREGORIAN
METHOD:PUBLISH
X-ORIGINAL-URL:https://latechelri.org
X-WR-CALDESC:Events for ELRI
REFRESH-INTERVAL;VALUE=DURATION:PT1H
X-Robots-Tag:noindex
X-PUBLISHED-TTL:PT1H
BEGIN:VTIMEZONE
TZID:America/Chicago
BEGIN:DAYLIGHT
TZOFFSETFROM:-0600
TZOFFSETTO:-0500
TZNAME:CDT
DTSTART:20250309T080000
END:DAYLIGHT
BEGIN:STANDARD
TZOFFSETFROM:-0500
TZOFFSETTO:-0600
TZNAME:CST
DTSTART:20251102T070000
END:STANDARD
BEGIN:DAYLIGHT
TZOFFSETFROM:-0600
TZOFFSETTO:-0500
TZNAME:CDT
DTSTART:20260308T080000
END:DAYLIGHT
BEGIN:STANDARD
TZOFFSETFROM:-0500
TZOFFSETTO:-0600
TZNAME:CST
DTSTART:20261101T070000
END:STANDARD
BEGIN:DAYLIGHT
TZOFFSETFROM:-0600
TZOFFSETTO:-0500
TZNAME:CDT
DTSTART:20270314T080000
END:DAYLIGHT
BEGIN:STANDARD
TZOFFSETFROM:-0500
TZOFFSETTO:-0600
TZNAME:CST
DTSTART:20271107T070000
END:STANDARD
END:VTIMEZONE
BEGIN:VEVENT
DTSTART;TZID=America/Chicago:20260602T080000
DTEND;TZID=America/Chicago:20260604T170000
DTSTAMP:20260423T112405
CREATED:20260402T185853Z
LAST-MODIFIED:20260416T174011Z
UID:4931-1780387200-1780592400@latechelri.org
SUMMARY:L3 Summer Literacy Institute: Word Recognition
DESCRIPTION:« All Events\n 				\n				\n				\n				\n					\n	L3 Summer Literacy Institute: Comprehension				\n				\n				\n				\n					\n		\n			July 14\n\n	\n\n	 @ \n\n\n8:00 am\n\n	\n\n		\n	\n	 - \n\n	July 16\n\n	\n\n	 @ \n\n\n5:00 pm\n\n\n\n	\n				\n				\n				\n				\n									Join us July 14–16 for three days of engaging\, practical professional learning focused on reading comprehension\, a critical component of skilled reading. Designed for K–3 educators\, this institute explores evidence-based practices to support students in constructing meaning from text. 								\n				\n				\n				\n					\n	\n				\n				\n				\n						\n					\n			\n						\n				\n					\n	\n\n	Categories:	\n		Upcoming Event	\n\n				\n				\n				\n				\n					\n	\n	Website:	\n	Click here to get your tickets!\n\n				\n				\n					\n		\n					\n		\n				\n						\n					\n			\n						\n				\n					\n	\n		\n\n	\n	Add to calendar	\n		\n	\n\n		\n			\n									\n	Google Calendar\n\n									\n	iCalendar\n\n									\n	Outlook 365\n\n									\n	Outlook Live\n\n							\n		\n\n		\n	\n\n				\n				\n					\n		\n					\n		\n				\n						\n					\n			\n						\n				\n					\n	\n		\n\n				L3 Summer Literacy Institute: Word Recognition
URL:https://latechelri.org/event/l3-summer-literacy-institute-word-recognition/
LOCATION:Woodard Hall IDEA Place | College of Education & Human Sciences  | Louisiana Tech University
CATEGORIES:Upcoming Event
ATTACH;FMTTYPE=application/pdf:https://latechelri.org/wp-content/uploads/2026/04/Literacy-Institute-1-2.pdf
END:VEVENT
BEGIN:VEVENT
DTSTART;TZID=America/Chicago:20260714T080000
DTEND;TZID=America/Chicago:20260716T170000
DTSTAMP:20260423T112405
CREATED:20260402T190527Z
LAST-MODIFIED:20260416T174144Z
UID:4960-1784016000-1784221200@latechelri.org
SUMMARY:L3 Summer Literacy Institute: Comprehension
DESCRIPTION:« All Events\n 				\n				\n				\n				\n					\n	L3 Summer Literacy Institute: Comprehension				\n				\n				\n				\n					\n		\n			July 14\n\n	\n\n	 @ \n\n\n8:00 am\n\n	\n\n		\n	\n	 - \n\n	July 16\n\n	\n\n	 @ \n\n\n5:00 pm\n\n\n\n	\n				\n				\n				\n				\n									Join us July 14–16 for three days of engaging\, practical professional learning focused on reading comprehension\, a critical component of skilled reading. Designed for K–3 educators\, this institute explores evidence-based practices to support students in constructing meaning from text. 								\n				\n				\n				\n					\n	\n				\n				\n				\n						\n					\n			\n						\n				\n					\n	\n\n	Categories:	\n		Upcoming Event	\n\n				\n				\n				\n				\n					\n	\n	Website:	\n	Click here to get your tickets!\n\n				\n				\n					\n		\n					\n		\n				\n						\n					\n			\n						\n				\n					\n	\n		\n\n	\n	Add to calendar	\n		\n	\n\n		\n			\n									\n	Google Calendar\n\n									\n	iCalendar\n\n									\n	Outlook 365\n\n									\n	Outlook Live\n\n							\n		\n\n		\n	\n\n				\n				\n					\n		\n					\n		\n				\n						\n					\n			\n						\n				\n					\n	\n		\n\n				L3 Summer Literacy Institute: Word Recognition
URL:https://latechelri.org/event/l3-summer-literacy-institute-comprehension/
LOCATION:Woodard Hall IDEA Place | College of Education & Human Sciences  | Louisiana Tech University
CATEGORIES:Upcoming Event
ATTACH;FMTTYPE=application/pdf:https://latechelri.org/wp-content/uploads/2026/04/Literacy-Institute-1-1.pdf
END:VEVENT
END:VCALENDAR